BEGIN:VCALENDAR
VERSION:2.0
PRODID:-//КДАіС
CALSCALE:GREGORIAN
METHOD:PUBLISH
X-WR-CALNAME:КДАіС
X-ORIGINAL-URL:https://kdais.kiev.ua/event/09-08-2024-liturhiya-rector/
X-WR-CALDESC:Ректор КДА співслужив Предстоятелю УПЦ у Пантелеімонівському жіночому монастирі (Феофанії)
BEGIN:VEVENT
DTSTART:20240809T233000
DTEND:20240809T233000
SUMMARY:Ректор КДА співслужив Предстоятелю УПЦ у Пантелеімонівському жіночому монастирі (Феофанії)
DESCRIPTION:У день пам’яті святого великомученика і цілителя Пантелеімона у Пантелеімонівському жіночому монастирі (Феофанії) відбулося урочисте богослужіння з нагоди престольного свята обителі, яке очолив Блаженніший Митрополит Київський і всієї України Онуфрій.
LOCATION:
END:VEVENT
END:VCALENDAR
