BEGIN:VCALENDAR
VERSION:2.0
PRODID:-//КДАіС
CALSCALE:GREGORIAN
METHOD:PUBLISH
X-WR-CALNAME:КДАіС
X-ORIGINAL-URL:https://kdais.kiev.ua/event/bdinya-10-08-2024/
X-WR-CALDESC:Всенічне бдіння в Академії напередодні Неділі 7-ої після П’ятидесятниці
BEGIN:VEVENT
DTSTART:20240810T233000
DTEND:20240810T233000
SUMMARY:Всенічне бдіння в Академії напередодні Неділі 7-ої після П’ятидесятниці
DESCRIPTION:Богослужбові піснеспіви виконував академічний хор студентів Київських духовних шкіл під керівництвом регента архімандрита Леонтія (Тупкало).
LOCATION:
END:VEVENT
END:VCALENDAR
