BEGIN:VCALENDAR
VERSION:2.0
PRODID:-//КДАіС
CALSCALE:GREGORIAN
METHOD:PUBLISH
X-WR-CALNAME:КДАіС
X-ORIGINAL-URL:https://kdais.kiev.ua/event/vitannya-17082024/
X-WR-CALDESC:Вітаємо проректора з виховної роботи професора єпископа Згурівського Амвросія з возведенням у сан архієпископа!
BEGIN:VEVENT
DTSTART:20240817T233000
DTEND:20240817T233000
SUMMARY:Вітаємо проректора з виховної роботи професора єпископа Згурівського Амвросія з возведенням у сан архієпископа!
DESCRIPTION:Прийміть найщиріші вітання від великої сім’ї Київських духовних шкіл з високою нагородою — возведенням у сан архієпископа!
LOCATION:
END:VEVENT
END:VCALENDAR
