BEGIN:VCALENDAR
VERSION:2.0
PRODID:-//КДАіС
CALSCALE:GREGORIAN
METHOD:PUBLISH
X-WR-CALNAME:КДАіС
X-ORIGINAL-URL:https://kdais.kiev.ua/event/propovid-19-08-2024-ua/
X-WR-CALDESC:Проповідь архієпископа Білогородського Сильвестра у день свята Преображення Господнього
BEGIN:VEVENT
DTSTART:20240819T233000
DTEND:20240819T233000
SUMMARY:Проповідь архієпископа Білогородського Сильвестра у день свята Преображення Господнього
DESCRIPTION:Преображення Спасителя на горі Фавор займає одне з найважливіших місць у священній історії. Євангеліст Матфей розповідає про Преображення «за шість днів» (Мф. 17:1). 
LOCATION:
END:VEVENT
END:VCALENDAR
