BEGIN:VCALENDAR
VERSION:2.0
PRODID:-//КДАіС
CALSCALE:GREGORIAN
METHOD:PUBLISH
X-WR-CALNAME:КДАіС
X-ORIGINAL-URL:https://kdais.kiev.ua/event/bdinya-18-08-2024/
X-WR-CALDESC:Богослужіння в Академії напередодні свята Преображення Господнього
BEGIN:VEVENT
DTSTART:20240818T233000
DTEND:20240818T233000
SUMMARY:Богослужіння в Академії напередодні свята Преображення Господнього
DESCRIPTION:За богослужінням також молились викладачі, студенти та вихованці Київських духовних шкіл, парафіяни Академічного храму та паломники обителі.
LOCATION:
END:VEVENT
END:VCALENDAR
