BEGIN:VCALENDAR
VERSION:2.0
PRODID:-//КДАіС
CALSCALE:GREGORIAN
METHOD:PUBLISH
X-WR-CALNAME:КДАіС
X-ORIGINAL-URL:https://kdais.kiev.ua/event/liturhiya-19-08-2024/
X-WR-CALDESC:В Академії молитовно відзначили свято Преображення Господнього
BEGIN:VEVENT
DTSTART:20240819T233000
DTEND:20240819T233000
SUMMARY:В Академії молитовно відзначили свято Преображення Господнього
DESCRIPTION:Наприкінці Літургії біля ікони свята було звершено чин славління, отець Маркел прочитав молитву на освячення винограду, плодів нового врожаю та окропив всі приношення святою водою.

LOCATION:
END:VEVENT
END:VCALENDAR
