BEGIN:VCALENDAR
VERSION:2.0
PRODID:-//КДАіС
CALSCALE:GREGORIAN
METHOD:PUBLISH
X-WR-CALNAME:КДАіС
X-ORIGINAL-URL:https://kdais.kiev.ua/event/19-08-24-liturhiya-rector/
X-WR-CALDESC:У день свята Преображення Господнього архієпископ Сильвестр прийняв участь у святковому богослужінні в м. Хмельницькому
BEGIN:VEVENT
DTSTART:20240819T233000
DTEND:20240819T233000
SUMMARY:У день свята Преображення Господнього архієпископ Сильвестр прийняв участь у святковому богослужінні в м. Хмельницькому
DESCRIPTION:Після читання Святого Євангелія архієпископ Сильвестр звернувся до присутніх зі словом проповіді.

LOCATION:
END:VEVENT
END:VCALENDAR
