BEGIN:VCALENDAR
VERSION:2.0
PRODID:-//КДАіС
CALSCALE:GREGORIAN
METHOD:PUBLISH
X-WR-CALNAME:КДАіС
X-ORIGINAL-URL:https://kdais.kiev.ua/event/propovid-01-09-2024-ru/
X-WR-CALDESC:Проповедь архиепископа Белогородского Сильвестра в Неделю 10-ю по Пятидесятнице
BEGIN:VEVENT
DTSTART:20240901T233000
DTEND:20240901T233000
SUMMARY:Проповедь архиепископа Белогородского Сильвестра в Неделю 10-ю по Пятидесятнице
DESCRIPTION:Человек иногда думает, что его вера мала, немощна. Но если его вера живая, искренняя, чистая, тогда вот с этой, казалось бы, малой веры, в один миг разрастается великое и неизреченное, и творятся чудеса.
LOCATION:
END:VEVENT
END:VCALENDAR
