BEGIN:VCALENDAR
VERSION:2.0
PRODID:-//КДАіС
CALSCALE:GREGORIAN
METHOD:PUBLISH
X-WR-CALNAME:КДАіС
X-ORIGINAL-URL:https://kdais.kiev.ua/event/liturhiya-15-09-2024/
X-WR-CALDESC:Божественна літургія в КДАіС у Неділю 12-ту після П’ятидесятниці
BEGIN:VEVENT
DTSTART:20240915T233000
DTEND:20240915T233000
SUMMARY:Божественна літургія в КДАіС у Неділю 12-ту після П’ятидесятниці
DESCRIPTION:Проповіді за богослужінням виголосили: після читання Святого Євангелія — отець Дамаскін, а на запричасному вірші студент ІI курсу магістратури —  чтець Володимир Олексюк.
LOCATION:
END:VEVENT
END:VCALENDAR
