BEGIN:VCALENDAR
VERSION:2.0
PRODID:-//КДАіС
CALSCALE:GREGORIAN
METHOD:PUBLISH
X-WR-CALNAME:КДАіС
X-ORIGINAL-URL:https://kdais.kiev.ua/event/kafedra-18-09-2024/
X-WR-CALDESC:В Академії відбулось засідання кафедри церковно-практичних дисциплін
BEGIN:VEVENT
DTSTART:20240918T233000
DTEND:20240918T233000
SUMMARY:В Академії відбулось засідання кафедри церковно-практичних дисциплін
DESCRIPTION:Наприкінці засідання відбулось обрання кращого студента з кафедри для отримання стипендії імені святителя Василія (Богдашевського) та розглянута низка поточних питань кафедри.


LOCATION:
END:VEVENT
END:VCALENDAR
