BEGIN:VCALENDAR
VERSION:2.0
PRODID:-//КДАіС
CALSCALE:GREGORIAN
METHOD:PUBLISH
X-WR-CALNAME:КДАіС
X-ORIGINAL-URL:https://kdais.kiev.ua/event/akafist-18-09-2024/
X-WR-CALDESC:Проректор з виховної роботи архієпископ Згурівський Амвросій очолив соборне читання Акафіста перед іконою Божої Матері &#8220;Києво-Братська&#8221;
BEGIN:VEVENT
DTSTART:20240918T233000
DTEND:20240918T233000
SUMMARY:Проректор з виховної роботи архієпископ Згурівський Амвросій очолив соборне читання Акафіста перед іконою Божої Матері &#8220;Києво-Братська&#8221;
DESCRIPTION:Духовенство і віряни всі разом молилися перед іконою Божої Матері і просили Її захисту та благословення.
LOCATION:
END:VEVENT
END:VCALENDAR
