BEGIN:VCALENDAR
VERSION:2.0
PRODID:-//КДАіС
CALSCALE:GREGORIAN
METHOD:PUBLISH
X-WR-CALNAME:КДАіС
X-ORIGINAL-URL:https://kdais.kiev.ua/event/rector-20-09-2024/
X-WR-CALDESC:Архієпископ Білогородський Сильвестр виступив на міжнародній науковій конференції на тему «Православні ресурси соціального миру»
BEGIN:VEVENT
DTSTART:20240920T233000
DTEND:20240920T233000
SUMMARY:Архієпископ Білогородський Сильвестр виступив на міжнародній науковій конференції на тему «Православні ресурси соціального миру»
DESCRIPTION:Під час свого виступу архієпископ Сильвестр розповів про життя українців в умовах російської військової агресії, про життя та служіння Української Православної Церкви в умовах війни, а також відповів на запитання присутніх.
LOCATION:
END:VEVENT
END:VCALENDAR
