BEGIN:VCALENDAR
VERSION:2.0
PRODID:-//КДАіС
CALSCALE:GREGORIAN
METHOD:PUBLISH
X-WR-CALNAME:КДАіС
X-ORIGINAL-URL:https://kdais.kiev.ua/event/26-09-2024-bdinya/
X-WR-CALDESC:В Академії звершено святкове богослужіння напередодні свята Воздвиження Хреста Господнього
BEGIN:VEVENT
DTSTART:20240926T233000
DTEND:20240926T233000
SUMMARY:В Академії звершено святкове богослужіння напередодні свята Воздвиження Хреста Господнього
DESCRIPTION:Під час великого славослов’я владика ректор виніс Святе Древо на центр храму, де було звершено чин Воздвиження Хреста.
LOCATION:
END:VEVENT
END:VCALENDAR
