BEGIN:VCALENDAR
VERSION:2.0
PRODID:-//КДАіС
CALSCALE:GREGORIAN
METHOD:PUBLISH
X-WR-CALNAME:КДАіС
X-ORIGINAL-URL:https://kdais.kiev.ua/event/turnir-29-09-2024/
X-WR-CALDESC:Відбувся щорічний футбольний турнір за першість Київських духовних шкіл
BEGIN:VEVENT
DTSTART:20240929T233000
DTEND:20240929T233000
SUMMARY:Відбувся щорічний футбольний турнір за першість Київських духовних шкіл
DESCRIPTION:У підсумку змагань чемпіонами першості Київської духовної академії і семінарії стала команда 2-го класу Семінарії
LOCATION:
END:VEVENT
END:VCALENDAR
