BEGIN:VCALENDAR
VERSION:2.0
PRODID:-//КДАіС
CALSCALE:GREGORIAN
METHOD:PUBLISH
X-WR-CALNAME:КДАіС
X-ORIGINAL-URL:https://kdais.kiev.ua/event/ekskursiya-02-10-2024/
X-WR-CALDESC:Київські духовні школи відвідали студенти столичних університетів
BEGIN:VEVENT
DTSTART:20241002T233000
DTEND:20241002T233000
SUMMARY:Київські духовні школи відвідали студенти столичних університетів
DESCRIPTION:Екскурсію для гостей провів доцент архімандрит Митрофан (Божко), після чого вони вислухали лекцію професора Буреги Володимира Вікторовича
LOCATION:
END:VEVENT
END:VCALENDAR
