BEGIN:VCALENDAR
VERSION:2.0
PRODID:-//КДАіС
CALSCALE:GREGORIAN
METHOD:PUBLISH
X-WR-CALNAME:КДАіС
X-ORIGINAL-URL:https://kdais.kiev.ua/event/liturhiya-13-10-2024/
X-WR-CALDESC:У Неділю 16-ту після П’ятидесятниці в Київських духовних школах була звершена Божественна літургія
BEGIN:VEVENT
DTSTART:20241013T233000
DTEND:20241013T233000
SUMMARY:У Неділю 16-ту після П’ятидесятниці в Київських духовних школах була звершена Божественна літургія
DESCRIPTION:Богослужіння очолив проректор з навчально-методичної роботи архімандрит Пантелеімон (Мельник)
LOCATION:
END:VEVENT
END:VCALENDAR
