BEGIN:VCALENDAR
VERSION:2.0
PRODID:-//КДАіС
CALSCALE:GREGORIAN
METHOD:PUBLISH
X-WR-CALNAME:КДАіС
X-ORIGINAL-URL:https://kdais.kiev.ua/event/vitalne-slovo-17-10-24/
X-WR-CALDESC:Вітальне слово Блаженнішого Митрополита Київського і всієї України Онуфрія на відкритті ХVІ Міжнародної науково-практичної конференції
BEGIN:VEVENT
DTSTART:20241017T233000
DTEND:20241017T233000
SUMMARY:Вітальне слово Блаженнішого Митрополита Київського і всієї України Онуфрія на відкритті ХVІ Міжнародної науково-практичної конференції
DESCRIPTION:Сердечно вітаю всіх вас, організаторів та учасників XVІ Міжнародної науково-практичної конференції, яка вкотре звертає увагу на взаємини духовної та світської освіти, аналізуючи їх історичний розвиток, сучасний стан та перспективи майбутнього
LOCATION:
END:VEVENT
END:VCALENDAR
