BEGIN:VCALENDAR
VERSION:2.0
PRODID:-//КДАіС
CALSCALE:GREGORIAN
METHOD:PUBLISH
X-WR-CALNAME:КДАіС
X-ORIGINAL-URL:https://kdais.kiev.ua/event/liturhiya-20-10-2024/
X-WR-CALDESC:У Неділю 17-ту після П’ятидесятниці в КДА була звершена Божественна літургія
BEGIN:VEVENT
DTSTART:20241020T233000
DTEND:20241020T233000
SUMMARY:У Неділю 17-ту після П’ятидесятниці в КДА була звершена Божественна літургія
DESCRIPTION:Богослужіння очолив старший помічник проректора з виховної роботи архімандрит Володимир (Ціпіньо)
LOCATION:
END:VEVENT
END:VCALENDAR
