BEGIN:VCALENDAR
VERSION:2.0
PRODID:-//КДАіС
CALSCALE:GREGORIAN
METHOD:PUBLISH
X-WR-CALNAME:КДАіС
X-ORIGINAL-URL:https://kdais.kiev.ua/event/liturhiya-26-10-2024/
X-WR-CALDESC:В КДАіС започатковано традицію звершення нічних Літургій з молитвою за Церкву і мир в Україні
BEGIN:VEVENT
DTSTART:20241026T233000
DTEND:20241026T233000
SUMMARY:В КДАіС започатковано традицію звершення нічних Літургій з молитвою за Церкву і мир в Україні
DESCRIPTION:З благословення ректора КДАіС архієпископа Білогородського Сильвестра нічні Літургії будуть звершуватись в останню суботу місяця
LOCATION:
END:VEVENT
END:VCALENDAR
