BEGIN:VCALENDAR
VERSION:2.0
PRODID:-//КДАіС
CALSCALE:GREGORIAN
METHOD:PUBLISH
X-WR-CALNAME:КДАіС
X-ORIGINAL-URL:https://kdais.kiev.ua/event/liturhiya-rector-27-10-2024/
X-WR-CALDESC:Архієпископ Сильвестр взяв участь в архієрейській хіротонії у Благовіщенському соборі столиці
BEGIN:VEVENT
DTSTART:20241027T233000
DTEND:20241027T233000
SUMMARY:Архієпископ Сильвестр взяв участь в архієрейській хіротонії у Благовіщенському соборі столиці
DESCRIPTION:За Літургією була звершена архієрейська хіротонія клірика Одеської єпархії архімандрита Анастасія (Беднікова) у єпископа Овідіопольського
LOCATION:
END:VEVENT
END:VCALENDAR
