BEGIN:VCALENDAR
VERSION:2.0
PRODID:-//КДАіС
CALSCALE:GREGORIAN
METHOD:PUBLISH
X-WR-CALNAME:КДАіС
X-ORIGINAL-URL:https://kdais.kiev.ua/event/01-11-2024/
X-WR-CALDESC:Професор КДА та регент академічного хору взяли участь в урочистостях з нагоди 25-річчя від заснування Камʼянець-Подільського іконописного духовного училища
BEGIN:VEVENT
DTSTART:20241101T233000
DTEND:20241101T233000
SUMMARY:Професор КДА та регент академічного хору взяли участь в урочистостях з нагоди 25-річчя від заснування Камʼянець-Подільського іконописного духовного училища
DESCRIPTION:Архімандрит Леонтій зачитав вітальне слово ректора КДАіС і подарував нові наукові видання Київських духовних шкіл
LOCATION:
END:VEVENT
END:VCALENDAR
