BEGIN:VCALENDAR
VERSION:2.0
PRODID:-//КДАіС
CALSCALE:GREGORIAN
METHOD:PUBLISH
X-WR-CALNAME:КДАіС
X-ORIGINAL-URL:https://kdais.kiev.ua/event/propoved-ru-03-11-2024/
X-WR-CALDESC:Проповедь архиепископа Белогородского Сильвестра в Неделю 19-ю по Пятидесятнице
BEGIN:VEVENT
DTSTART:20241103T233000
DTEND:20241103T233000
SUMMARY:Проповедь архиепископа Белогородского Сильвестра в Неделю 19-ю по Пятидесятнице
DESCRIPTION:Богатство само по себе не губит, и нищета сама по себе не спасает. Все решает отношение к ним
LOCATION:
END:VEVENT
END:VCALENDAR
