BEGIN:VCALENDAR
VERSION:2.0
PRODID:-//КДАіС
CALSCALE:GREGORIAN
METHOD:PUBLISH
X-WR-CALNAME:КДАіС
X-ORIGINAL-URL:https://kdais.kiev.ua/event/propovid-ua-17-11-2024/
X-WR-CALDESC:Проповідь архієпископа Білогородського Сильвестра у Неділю 21-шу після П&#8217;ятидесятниці
BEGIN:VEVENT
DTSTART:20241117T233000
DTEND:20241117T233000
SUMMARY:Проповідь архієпископа Білогородського Сильвестра у Неділю 21-шу після П&#8217;ятидесятниці
DESCRIPTION:Христос, немов первозданного Адама, піднятого всемогутнім словом Творця з пороху земного, піднімає до життя, померлу дівчинку Своїм повелінням
LOCATION:
END:VEVENT
END:VCALENDAR
