BEGIN:VCALENDAR
VERSION:2.0
PRODID:-//КДАіС
CALSCALE:GREGORIAN
METHOD:PUBLISH
X-WR-CALNAME:КДАіС
X-ORIGINAL-URL:https://kdais.kiev.ua/event/liturhiya-rector-21-11-2024/
X-WR-CALDESC:Ректор КДА звершив Літургію у Свято-Вознесенському храмі на Деміївці м. Києва
BEGIN:VEVENT
DTSTART:20241121T233000
DTEND:20241121T233000
SUMMARY:Ректор КДА звершив Літургію у Свято-Вознесенському храмі на Деміївці м. Києва
DESCRIPTION:Насамкінець архієпископ Сильвестр нагородив прихожанина храму церковною нагородою
LOCATION:
END:VEVENT
END:VCALENDAR
