BEGIN:VCALENDAR
VERSION:2.0
PRODID:-//КДАіС
CALSCALE:GREGORIAN
METHOD:PUBLISH
X-WR-CALNAME:КДАіС
X-ORIGINAL-URL:https://kdais.kiev.ua/event/litiya-23-11-2024-2/
X-WR-CALDESC:У 89-ту річницю з Дня народження спочилого Предстоятеля УПЦ на його могилі відслужена заупокійна літія
BEGIN:VEVENT
DTSTART:20241123T233000
DTEND:20241123T233000
SUMMARY:У 89-ту річницю з Дня народження спочилого Предстоятеля УПЦ на його могилі відслужена заупокійна літія
DESCRIPTION:Заупокійне богослужіння звершив благочинний Академічного храму архімандрит Досифей (Михайлюк)
LOCATION:
END:VEVENT
END:VCALENDAR
