BEGIN:VCALENDAR
VERSION:2.0
PRODID:-//КДАіС
CALSCALE:GREGORIAN
METHOD:PUBLISH
X-WR-CALNAME:КДАіС
X-ORIGINAL-URL:https://kdais.kiev.ua/event/vitannya-24-11-2024/
X-WR-CALDESC:Вітаємо професора Київської духовної академії митрополита Хмельницького і Старокостянтинівського Віктора з Днем Ангела!
BEGIN:VEVENT
DTSTART:20241124T233000
DTEND:20241124T233000
SUMMARY:Вітаємо професора Київської духовної академії митрополита Хмельницького і Старокостянтинівського Віктора з Днем Ангела!
DESCRIPTION:Надихаючись прикладом терпіння і стояння у вірі святого мученика Віктора, Ви ведете шляхом спасіння вірних чад Хмельницькій єпархії
LOCATION:
END:VEVENT
END:VCALENDAR
