BEGIN:VCALENDAR
VERSION:2.0
PRODID:-//КДАіС
CALSCALE:GREGORIAN
METHOD:PUBLISH
X-WR-CALNAME:КДАіС
X-ORIGINAL-URL:https://kdais.kiev.ua/event/2024-27-11-akafist/
X-WR-CALDESC:Акафістний спів перед шанованою іконою Божої Матері «Києво-Братська»
BEGIN:VEVENT
DTSTART:20241127T233000
DTEND:20241127T233000
SUMMARY:Акафістний спів перед шанованою іконою Божої Матері «Києво-Братська»
DESCRIPTION:Під час акафісту в стінах академічного храму підносилися молитви за викладачів, студентів та всю академічну спільноту
LOCATION:
END:VEVENT
END:VCALENDAR
