BEGIN:VCALENDAR
VERSION:2.0
PRODID:-//КДАіС
CALSCALE:GREGORIAN
METHOD:PUBLISH
X-WR-CALNAME:КДАіС
X-ORIGINAL-URL:https://kdais.kiev.ua/event/konferenciya-05-12-2024/
X-WR-CALDESC:Представник КДАіС взяв участь у Міжнародній науково-практичній конференції &#8220;Державно-конфесійні відносини в Україні: стан та виклики&#8221;
BEGIN:VEVENT
DTSTART:20241205T233000
DTEND:20241205T233000
SUMMARY:Представник КДАіС взяв участь у Міжнародній науково-практичній конференції &#8220;Державно-конфесійні відносини в Україні: стан та виклики&#8221;
DESCRIPTION:Отець Герман виступив з доповіддю на тему: "Державно-церковні відносини в Україні: церковно-канонічний вимір"
LOCATION:
END:VEVENT
END:VCALENDAR
