BEGIN:VCALENDAR
VERSION:2.0
PRODID:-//КДАіС
CALSCALE:GREGORIAN
METHOD:PUBLISH
X-WR-CALNAME:КДАіС
X-ORIGINAL-URL:https://kdais.kiev.ua/event/propovid-ua-07-12-2024/
X-WR-CALDESC:Проповідь архієпископа Білогородського Сильвестра у Неділю 24-ту після П&#8217;ятидесятниці
BEGIN:VEVENT
DTSTART:20241207T233000
DTEND:20241207T233000
SUMMARY:Проповідь архієпископа Білогородського Сильвестра у Неділю 24-ту після П&#8217;ятидесятниці
DESCRIPTION:Господь називає цю жінку дочкою Авраама, нагадуючи оточуючим, що вона, незважаючи на свій непривабливий вигляд, теж із нащадків Авраама, а значить є учасницею тих обітниць, які отримав Авраам і наслідники від нього.
LOCATION:
END:VEVENT
END:VCALENDAR
