BEGIN:VCALENDAR
VERSION:2.0
PRODID:-//КДАіС
CALSCALE:GREGORIAN
METHOD:PUBLISH
X-WR-CALNAME:КДАіС
X-ORIGINAL-URL:https://kdais.kiev.ua/event/vitannya-09-12-2024/
X-WR-CALDESC:Вітаємо Предстоятеля УПЦ Блаженнішого Митрополита Київського і всієї України Онуфрія з 34-ою річницею архієрейської хіротонії!
BEGIN:VEVENT
DTSTART:20241209T233000
DTEND:20241209T233000
SUMMARY:Вітаємо Предстоятеля УПЦ Блаженнішого Митрополита Київського і всієї України Онуфрія з 34-ою річницею архієрейської хіротонії!
DESCRIPTION:У часи випробувань і тривог Ви невпинно слідуєте заповіту апостола Павла: «Усе можу в Тому, Хто мене підкріпляє» (Флп. 4:13), даруючи нам приклад непохитної віри й терпіння
LOCATION:
END:VEVENT
END:VCALENDAR
