BEGIN:VCALENDAR
VERSION:2.0
PRODID:-//КДАіС
CALSCALE:GREGORIAN
METHOD:PUBLISH
X-WR-CALNAME:КДАіС
X-ORIGINAL-URL:https://kdais.kiev.ua/event/propovid-ru-15-12-2024/
X-WR-CALDESC:Проповедь архиепископа Белогородского Сильвестра в Неделю 25-ю по Пятидесятнице
BEGIN:VEVENT
DTSTART:20241215T233000
DTEND:20241215T233000
SUMMARY:Проповедь архиепископа Белогородского Сильвестра в Неделю 25-ю по Пятидесятнице
DESCRIPTION:Юноша хотел совершенства! И Спаситель показал ему как этого достичь. Но, увы, сердце юноши тайно поклонялось другому богу — богатству
LOCATION:
END:VEVENT
END:VCALENDAR
