BEGIN:VCALENDAR
VERSION:2.0
PRODID:-//КДАіС
CALSCALE:GREGORIAN
METHOD:PUBLISH
X-WR-CALNAME:КДАіС
X-ORIGINAL-URL:https://kdais.kiev.ua/event/liturhiya-rector-19-12-2024/
X-WR-CALDESC:Служіння ректора КДА в день пам’яті святителя Миколая, архієпископа Мир Лікійських, чудотворця
BEGIN:VEVENT
DTSTART:20241219T233000
DTEND:20241219T233000
SUMMARY:Служіння ректора КДА в день пам’яті святителя Миколая, архієпископа Мир Лікійських, чудотворця
DESCRIPTION:Наприкінці богослужіння було звершено чин славління, Його Високопреосвященство привітав присутніх зі святом та закликав на всіх Боже благословення
LOCATION:
END:VEVENT
END:VCALENDAR
