BEGIN:VCALENDAR
VERSION:2.0
PRODID:-//КДАіС
CALSCALE:GREGORIAN
METHOD:PUBLISH
X-WR-CALNAME:КДАіС
X-ORIGINAL-URL:https://kdais.kiev.ua/event/rector-22-12-2024/
X-WR-CALDESC:Ректор КДА співслужив Предстоятелю УПЦ за Літургією у Києво-Печерській Лаврі
BEGIN:VEVENT
DTSTART:20241222T233000
DTEND:20241222T233000
SUMMARY:Ректор КДА співслужив Предстоятелю УПЦ за Літургією у Києво-Печерській Лаврі
DESCRIPTION:Після читання святого Євангелія Блаженніший владика звернувся до пастви з архіпастирським словом
LOCATION:
END:VEVENT
END:VCALENDAR
