BEGIN:VCALENDAR
VERSION:2.0
PRODID:-//КДАіС
CALSCALE:GREGORIAN
METHOD:PUBLISH
X-WR-CALNAME:КДАіС
X-ORIGINAL-URL:https://kdais.kiev.ua/event/liturhiya-29-12-2024/
X-WR-CALDESC:Божественна літургія в Академії у Неділю 27-му після П’ятидесятниці
BEGIN:VEVENT
DTSTART:20241229T233000
DTEND:20241229T233000
SUMMARY:Божественна літургія в Академії у Неділю 27-му після П’ятидесятниці
DESCRIPTION:Проповідь після читання Святого Євангелія виголосив архімандрит Маркел (Павук)
LOCATION:
END:VEVENT
END:VCALENDAR
