BEGIN:VCALENDAR
VERSION:2.0
PRODID:-//КДАіС
CALSCALE:GREGORIAN
METHOD:PUBLISH
X-WR-CALNAME:КДАіС
X-ORIGINAL-URL:https://kdais.kiev.ua/event/rector-29-12-2024/
X-WR-CALDESC:Ректор КДА взяв участь в архієрейській хіротонії в Свято-Пантелеімонівському монастирі в Феофанії
BEGIN:VEVENT
DTSTART:20241229T233000
DTEND:20241229T233000
SUMMARY:Ректор КДА взяв участь в архієрейській хіротонії в Свято-Пантелеімонівському монастирі в Феофанії
DESCRIPTION:За Літургією була звершена архієрейська хіротонія архімандрита Іова (Похивки) у єпископа Кіцманського, вікарія Чернівецько-Буковинської єпархії
LOCATION:
END:VEVENT
END:VCALENDAR
