BEGIN:VCALENDAR
VERSION:2.0
PRODID:-//КДАіС
CALSCALE:GREGORIAN
METHOD:PUBLISH
X-WR-CALNAME:КДАіС
X-ORIGINAL-URL:https://kdais.kiev.ua/event/03-01-2025/
X-WR-CALDESC:Вихованці Недільної школи допомогли прикрашати Академічний храм
BEGIN:VEVENT
DTSTART:20250103T233000
DTEND:20250103T233000
SUMMARY:Вихованці Недільної школи допомогли прикрашати Академічний храм
DESCRIPTION:Діти із завзяттям прикрашали святкові ялинки, розвішували гірлянди та різдвяні іграшки, створюючи особливу атмосферу свята та радості
LOCATION:
END:VEVENT
END:VCALENDAR
