BEGIN:VCALENDAR
VERSION:2.0
PRODID:-//КДАіС
CALSCALE:GREGORIAN
METHOD:PUBLISH
X-WR-CALNAME:КДАіС
X-ORIGINAL-URL:https://kdais.kiev.ua/event/propovid-ru-03-01-2026/
X-WR-CALDESC:Проповедь архиепископа Белогородского Сильвестра в Неделю 30-ю по Пятидесятнице, перед Рождеством Христовым, святых отцов
BEGIN:VEVENT
DTSTART:20260103T233000
DTEND:20260103T233000
SUMMARY:Проповедь архиепископа Белогородского Сильвестра в Неделю 30-ю по Пятидесятнице, перед Рождеством Христовым, святых отцов
DESCRIPTION:Для евангелиста Матфея Иисус — наследник царя Давида и патриарха Авраама; для евангелиста Луки важно указать и подчеркнуть, что Христос — по плоти от Адама, но сам Он Спаситель мира, новый Адам, Сын Божий
LOCATION:
END:VEVENT
END:VCALENDAR
