BEGIN:VCALENDAR
VERSION:2.0
PRODID:-//КДАіС
CALSCALE:GREGORIAN
METHOD:PUBLISH
X-WR-CALNAME:КДАіС
X-ORIGINAL-URL:https://kdais.kiev.ua/event/vitannya-09-01-2025/
X-WR-CALDESC:Вітаємо завідувача аспірантури доцента архімандрита Філарета (Волошина) з возведенням у сан єпископа!
BEGIN:VEVENT
DTSTART:20250109T233000
DTEND:20250109T233000
SUMMARY:Вітаємо завідувача аспірантури доцента архімандрита Філарета (Волошина) з возведенням у сан єпископа!
DESCRIPTION:Бажаємо Вам ходити завжди перед Лицем Божим і триматися шляхів Господніх — праведних!
LOCATION:
END:VEVENT
END:VCALENDAR
