BEGIN:VCALENDAR
VERSION:2.0
PRODID:-//КДАіС
CALSCALE:GREGORIAN
METHOD:PUBLISH
X-WR-CALNAME:КДАіС
X-ORIGINAL-URL:https://kdais.kiev.ua/event/vitannya-15-01-2025/
X-WR-CALDESC:Київські духовні школи вітають ректора КДАіС архієпископа Білогородського Сильвестра з Днем тезоіменитства!
BEGIN:VEVENT
DTSTART:20250115T233000
DTEND:20250115T233000
SUMMARY:Київські духовні школи вітають ректора КДАіС архієпископа Білогородського Сильвестра з Днем тезоіменитства!
DESCRIPTION:Заступництвом та молитвами Вашого Небесного покровителя – святителя Сильвестра, нехай Всемилостивий Господь благословить Ваші пастирські та адміністративні труди вінцем слави для Церкви Христової на многая і благая літа!
LOCATION:
END:VEVENT
END:VCALENDAR
