BEGIN:VCALENDAR
VERSION:2.0
PRODID:-//КДАіС
CALSCALE:GREGORIAN
METHOD:PUBLISH
X-WR-CALNAME:КДАіС
X-ORIGINAL-URL:https://kdais.kiev.ua/event/rector-15-01-2025/
X-WR-CALDESC:Архієпископ Білогородський Сильвестр молитовно відзначив день свого тезоіменитства
BEGIN:VEVENT
DTSTART:20250115T233000
DTEND:20250115T233000
SUMMARY:Архієпископ Білогородський Сильвестр молитовно відзначив день свого тезоіменитства
DESCRIPTION:Далі Високопреосвященніший іменинник приймав вітання від присутніх
LOCATION:
END:VEVENT
END:VCALENDAR
