BEGIN:VCALENDAR
VERSION:2.0
PRODID:-//КДАіС
CALSCALE:GREGORIAN
METHOD:PUBLISH
X-WR-CALNAME:КДАіС
X-ORIGINAL-URL:https://kdais.kiev.ua/event/propoved-ru-18-01-2025/
X-WR-CALDESC:Проповедь архиепископа Белогородского Сильвестра после Великого освящения воды на Богоявление Господне
BEGIN:VEVENT
DTSTART:20250117T233000
DTEND:20250117T233000
SUMMARY:Проповедь архиепископа Белогородского Сильвестра после Великого освящения воды на Богоявление Господне
DESCRIPTION:Будем же снова и снова осознавать, что сегодняшний праздник — это день просвещения, день Света, день милости Божьей к нам
LOCATION:
END:VEVENT
END:VCALENDAR
