BEGIN:VCALENDAR
VERSION:2.0
PRODID:-//КДАіС
CALSCALE:GREGORIAN
METHOD:PUBLISH
X-WR-CALNAME:КДАіС
X-ORIGINAL-URL:https://kdais.kiev.ua/event/vechirnya-17-01-2025/
X-WR-CALDESC:В КДА звершено вечірнє богослужіння напередодні Навечір’я Богоявлення
BEGIN:VEVENT
DTSTART:20250117T233000
DTEND:20250117T233000
SUMMARY:В КДА звершено вечірнє богослужіння напередодні Навечір’я Богоявлення
DESCRIPTION:На малому повечір’ї проректор з навчально-методичної роботи єпископ Батуринський Пантелеімон звершив читання канону передсвята Богоявлення
LOCATION:
END:VEVENT
END:VCALENDAR
