BEGIN:VCALENDAR
VERSION:2.0
PRODID:-//КДАіС
CALSCALE:GREGORIAN
METHOD:PUBLISH
X-WR-CALNAME:КДАіС
X-ORIGINAL-URL:https://kdais.kiev.ua/event/liturhiya-18-01-2025/
X-WR-CALDESC:Архієпископ Сильвестр звершив Божественну Літургію та чин Великого освячення води у Навечір’я Богоявлення
BEGIN:VEVENT
DTSTART:20250118T233000
DTEND:20250118T233000
SUMMARY:Архієпископ Сильвестр звершив Божественну Літургію та чин Великого освячення води у Навечір’я Богоявлення
DESCRIPTION:Цього дня, за академічною традицією, під спів тропаря свята Богоявлення були окроплені головний корпус, навчальні аудиторії та всі адміністративні приміщення Київських духовних шкіл
LOCATION:
END:VEVENT
END:VCALENDAR
