BEGIN:VCALENDAR
VERSION:2.0
PRODID:-//КДАіС
CALSCALE:GREGORIAN
METHOD:PUBLISH
X-WR-CALNAME:КДАіС
X-ORIGINAL-URL:https://kdais.kiev.ua/event/19-01-2025-propovid-ua/
X-WR-CALDESC:Проповідь архієпископа Білогородського Сильвестра у день свята Богоявлення
BEGIN:VEVENT
DTSTART:20250119T233000
DTEND:20250119T233000
SUMMARY:Проповідь архієпископа Білогородського Сильвестра у день свята Богоявлення
DESCRIPTION:Воля Божа, за висловом апостола, є блага, угодна і досконала (Рим. 12:2) і, природно, Господь хоче, щоб всі відвернулися від зла і досягли пізнання істини
LOCATION:
END:VEVENT
END:VCALENDAR
