BEGIN:VCALENDAR
VERSION:2.0
PRODID:-//КДАіС
CALSCALE:GREGORIAN
METHOD:PUBLISH
X-WR-CALNAME:КДАіС
X-ORIGINAL-URL:https://kdais.kiev.ua/event/bogosluzhinnya-18-01-2025/
X-WR-CALDESC:Торжественне богослужіння в КДАіС напередодні свята Богоявлення
BEGIN:VEVENT
DTSTART:20250118T233000
DTEND:20250118T233000
SUMMARY:Торжественне богослужіння в КДАіС напередодні свята Богоявлення
DESCRIPTION:Богослужіння звершив ректор Київської духовної академії і семінарії архієпископ Білогородський Сильвестр разом з єпископом Батуринським Пантелеімоном
LOCATION:
END:VEVENT
END:VCALENDAR
