BEGIN:VCALENDAR
VERSION:2.0
PRODID:-//КДАіС
CALSCALE:GREGORIAN
METHOD:PUBLISH
X-WR-CALNAME:КДАіС
X-ORIGINAL-URL:https://kdais.kiev.ua/event/vechirnya-19-01-2025/
X-WR-CALDESC:Богослужіння в КДА напередодні свята Собору Предтечі і Хрестителя Господнього Іоанна
BEGIN:VEVENT
DTSTART:20250119T233000
DTEND:20250119T233000
SUMMARY:Богослужіння в КДА напередодні свята Собору Предтечі і Хрестителя Господнього Іоанна
DESCRIPTION:За богослужінням також молились викладачі, студенти та вихованці Київських духовних шкіл, парафіяни Академічного храму та паломники обителі
LOCATION:
END:VEVENT
END:VCALENDAR
