BEGIN:VCALENDAR
VERSION:2.0
PRODID:-//КДАіС
CALSCALE:GREGORIAN
METHOD:PUBLISH
X-WR-CALNAME:КДАіС
X-ORIGINAL-URL:https://kdais.kiev.ua/event/26-01-2025-rector/
X-WR-CALDESC:Ректор КДАіС взяв участь в молодіжному просвітницькому заході «Богословський вікенд»
BEGIN:VEVENT
DTSTART:20250126T233000
DTEND:20250126T233000
SUMMARY:Ректор КДАіС взяв участь в молодіжному просвітницькому заході «Богословський вікенд»
DESCRIPTION:В рамках проведеного просвітницького заходу владика ректор вислухав запитання присутньої молоді та надав на них відповіді
LOCATION:
END:VEVENT
END:VCALENDAR
