BEGIN:VCALENDAR
VERSION:2.0
PRODID:-//КДАіС
CALSCALE:GREGORIAN
METHOD:PUBLISH
X-WR-CALNAME:КДАіС
X-ORIGINAL-URL:https://kdais.kiev.ua/event/forum-04-02-2025/
X-WR-CALDESC:Вчений секретар КДА взяв участь у V Всеукраїнському форумі дружин священнослужителів УПЦ
BEGIN:VEVENT
DTSTART:20250204T233000
DTEND:20250204T233000
SUMMARY:Вчений секретар КДА взяв участь у V Всеукраїнському форумі дружин священнослужителів УПЦ
DESCRIPTION:Наприкінці отець Митрофан відповів на питання учасниць. Обговорення продовжилося під час неформального спілкування
LOCATION:
END:VEVENT
END:VCALENDAR
