BEGIN:VCALENDAR
VERSION:2.0
PRODID:-//КДАіС
CALSCALE:GREGORIAN
METHOD:PUBLISH
X-WR-CALNAME:КДАіС
X-ORIGINAL-URL:https://kdais.kiev.ua/event/propovid-ua-09-02-2025/
X-WR-CALDESC:Проповідь архієпископа Білогородського Сильвестра у Неділю про митаря і фарисея
BEGIN:VEVENT
DTSTART:20250209T233000
DTEND:20250209T233000
SUMMARY:Проповідь архієпископа Білогородського Сильвестра у Неділю про митаря і фарисея
DESCRIPTION:Візитна картка фарисейства — любов до осуду. Ось і в притчі, звичайно ж, фарисей не утримується, щоб не осудити. Особливо митаря, який виявився поруч
LOCATION:
END:VEVENT
END:VCALENDAR
