BEGIN:VCALENDAR
VERSION:2.0
PRODID:-//КДАіС
CALSCALE:GREGORIAN
METHOD:PUBLISH
X-WR-CALNAME:КДАіС
X-ORIGINAL-URL:https://kdais.kiev.ua/event/propoved-ru-09-02-2025/
X-WR-CALDESC:Проповедь архиепископа Белогородского Сильвестра в Неделю о мытаре и фарисее
BEGIN:VEVENT
DTSTART:20250209T233000
DTEND:20250209T233000
SUMMARY:Проповедь архиепископа Белогородского Сильвестра в Неделю о мытаре и фарисее
DESCRIPTION:Лицемерие, фарисейство, высокомерие, ханжество не остались в прошлом. В такое состояние могут попасть все, кто хочет играть роль, кто хочет показаться праведным, достойным, добродетельным
LOCATION:
END:VEVENT
END:VCALENDAR
